BEGIN:VCALENDAR
VERSION:2.0
PRODID:-//SORNAC - ECPv6.15.20//NONSGML v1.0//EN
CALSCALE:GREGORIAN
METHOD:PUBLISH
X-ORIGINAL-URL:https://sornac.fr
X-WR-CALDESC:Évènements pour SORNAC
REFRESH-INTERVAL;VALUE=DURATION:PT1H
X-Robots-Tag:noindex
X-PUBLISHED-TTL:PT1H
BEGIN:VTIMEZONE
TZID:Europe/Paris
BEGIN:DAYLIGHT
TZOFFSETFROM:+0100
TZOFFSETTO:+0200
TZNAME:CEST
DTSTART:20250330T010000
END:DAYLIGHT
BEGIN:STANDARD
TZOFFSETFROM:+0200
TZOFFSETTO:+0100
TZNAME:CET
DTSTART:20251026T010000
END:STANDARD
BEGIN:DAYLIGHT
TZOFFSETFROM:+0100
TZOFFSETTO:+0200
TZNAME:CEST
DTSTART:20260329T010000
END:DAYLIGHT
BEGIN:STANDARD
TZOFFSETFROM:+0200
TZOFFSETTO:+0100
TZNAME:CET
DTSTART:20261025T010000
END:STANDARD
BEGIN:DAYLIGHT
TZOFFSETFROM:+0100
TZOFFSETTO:+0200
TZNAME:CEST
DTSTART:20270328T010000
END:DAYLIGHT
BEGIN:STANDARD
TZOFFSETFROM:+0200
TZOFFSETTO:+0100
TZNAME:CET
DTSTART:20271031T010000
END:STANDARD
END:VTIMEZONE
BEGIN:VEVENT
DTSTART;TZID=Europe/Paris:20260130T190000
DTEND;TZID=Europe/Paris:20260130T210000
DTSTAMP:20260424T140954
CREATED:20260115T104506Z
LAST-MODIFIED:20260115T161519Z
UID:13672-1769799600-1769806800@sornac.fr
SUMMARY:Soirée choucroute
DESCRIPTION:Partager ceci :
URL:https://sornac.fr/evenement/soiree-choucroute/
LOCATION:Au Petit Chabrot\, 6 place de l'église\, Sornac\, 19290\, France
ATTACH;FMTTYPE=image/jpeg:https://sornac.fr/wp-content/uploads/2026/01/Choucroute-chabrot-scaled.webp
END:VEVENT
END:VCALENDAR