BEGIN:VCALENDAR
VERSION:2.0
PRODID:-//SORNAC - ECPv6.15.20//NONSGML v1.0//EN
CALSCALE:GREGORIAN
METHOD:PUBLISH
X-WR-CALNAME:SORNAC
X-ORIGINAL-URL:https://sornac.fr
X-WR-CALDESC:Évènements pour SORNAC
REFRESH-INTERVAL;VALUE=DURATION:PT1H
X-Robots-Tag:noindex
X-PUBLISHED-TTL:PT1H
BEGIN:VTIMEZONE
TZID:Europe/Paris
BEGIN:DAYLIGHT
TZOFFSETFROM:+0100
TZOFFSETTO:+0200
TZNAME:CEST
DTSTART:20250330T010000
END:DAYLIGHT
BEGIN:STANDARD
TZOFFSETFROM:+0200
TZOFFSETTO:+0100
TZNAME:CET
DTSTART:20251026T010000
END:STANDARD
BEGIN:DAYLIGHT
TZOFFSETFROM:+0100
TZOFFSETTO:+0200
TZNAME:CEST
DTSTART:20260329T010000
END:DAYLIGHT
BEGIN:STANDARD
TZOFFSETFROM:+0200
TZOFFSETTO:+0100
TZNAME:CET
DTSTART:20261025T010000
END:STANDARD
BEGIN:DAYLIGHT
TZOFFSETFROM:+0100
TZOFFSETTO:+0200
TZNAME:CEST
DTSTART:20270328T010000
END:DAYLIGHT
BEGIN:STANDARD
TZOFFSETFROM:+0200
TZOFFSETTO:+0100
TZNAME:CET
DTSTART:20271031T010000
END:STANDARD
END:VTIMEZONE
BEGIN:VEVENT
DTSTART;TZID=Europe/Paris:20260315T080000
DTEND;TZID=Europe/Paris:20260315T180000
DTSTAMP:20260420T161744
CREATED:20260302T144037Z
LAST-MODIFIED:20260302T144037Z
UID:13887-1773561600-1773597600@sornac.fr
SUMMARY:Elections municipales Sornac
DESCRIPTION:Partager ceci :
URL:https://sornac.fr/evenement/elections-municipales-sornac/
LOCATION:Salle du conseil municipal\, 5 place de l'église\, Sornac\, 19290\, France
ATTACH;FMTTYPE=image/png:https://sornac.fr/wp-content/uploads/2026/02/Elections-municipales-2026.webp
ORGANIZER;CN="Mairie de Sornac":MAILTO:commune@sornac.fr
END:VEVENT
BEGIN:VEVENT
DTSTART;TZID=Europe/Paris:20260315T150000
DTEND;TZID=Europe/Paris:20260315T180000
DTSTAMP:20260420T161744
CREATED:20260307T082912Z
LAST-MODIFIED:20260307T082912Z
UID:13905-1773586800-1773597600@sornac.fr
SUMMARY:Match de l'US Sornac 💚⚽
DESCRIPTION:CLUB DE FOOT – US Sornac \n \nRetrouvez le calendrier complet : Résultats et calendrier \nFacebook du club \nPartager ceci :
URL:https://sornac.fr/evenement/match-de-lus-sornac-%f0%9f%92%9a%e2%9a%bd-6/
LOCATION:STADE MUNICIPAL AIX\, STADE MUNICIPAL D49\, AIX\, 19200\, France
CATEGORIES:Match de l'US Sornac 💚⚽
ATTACH;FMTTYPE=image/png:https://sornac.fr/wp-content/uploads/2026/03/EXT-US-Sornac-1.webp
END:VEVENT
END:VCALENDAR