BEGIN:VCALENDAR
VERSION:2.0
PRODID:-//SORNAC - ECPv6.15.20//NONSGML v1.0//EN
CALSCALE:GREGORIAN
METHOD:PUBLISH
X-ORIGINAL-URL:https://sornac.fr
X-WR-CALDESC:Évènements pour SORNAC
REFRESH-INTERVAL;VALUE=DURATION:PT1H
X-Robots-Tag:noindex
X-PUBLISHED-TTL:PT1H
BEGIN:VTIMEZONE
TZID:Europe/Paris
BEGIN:DAYLIGHT
TZOFFSETFROM:+0100
TZOFFSETTO:+0200
TZNAME:CEST
DTSTART:20250330T010000
END:DAYLIGHT
BEGIN:STANDARD
TZOFFSETFROM:+0200
TZOFFSETTO:+0100
TZNAME:CET
DTSTART:20251026T010000
END:STANDARD
BEGIN:DAYLIGHT
TZOFFSETFROM:+0100
TZOFFSETTO:+0200
TZNAME:CEST
DTSTART:20260329T010000
END:DAYLIGHT
BEGIN:STANDARD
TZOFFSETFROM:+0200
TZOFFSETTO:+0100
TZNAME:CET
DTSTART:20261025T010000
END:STANDARD
BEGIN:DAYLIGHT
TZOFFSETFROM:+0100
TZOFFSETTO:+0200
TZNAME:CEST
DTSTART:20270328T010000
END:DAYLIGHT
BEGIN:STANDARD
TZOFFSETFROM:+0200
TZOFFSETTO:+0100
TZNAME:CET
DTSTART:20271031T010000
END:STANDARD
END:VTIMEZONE
BEGIN:VEVENT
DTSTART;VALUE=DATE:20260514
DTEND;VALUE=DATE:20260518
DTSTAMP:20260424T103129
CREATED:20250521T133013Z
LAST-MODIFIED:20251223T110612Z
UID:11799-1778716800-1779062399@sornac.fr
SUMMARY:Pont de l'ascension
DESCRIPTION:Pont de l’ascension\nDu mercredi 13 mai au soir au lundi 18 juin 2026 au matin \nPartager ceci :
URL:https://sornac.fr/evenement/pont-de-lascension/
LOCATION:École de Sornac\, rue des écoles\, Sornac\, 19290\, France
CATEGORIES:Vacances scolaires
ATTACH;FMTTYPE=image/jpeg:https://sornac.fr/wp-content/uploads/2023/01/88b49-ascension-jpg.webp
END:VEVENT
BEGIN:VEVENT
DTSTART;TZID=Europe/Paris:20260514T080000
DTEND;TZID=Europe/Paris:20260514T170000
DTSTAMP:20260424T103129
CREATED:20260317T152443Z
LAST-MODIFIED:20260421T123536Z
UID:13930-1778745600-1778778000@sornac.fr
SUMMARY:Vide grenier
DESCRIPTION:🛍️ VIDE-GRENIER À SORNAC 🛍️ \n\n📅 Jeudi 14 mai 2026\n⏰ De 8h à 17h\n📍 Place de la mairie – Sornac \n✨ Venez chiner et faire de bonnes affaires !\nVous y trouverez : \n\nObjets anciens\nVêtements\nJouets\nDécoration\nEt bien plus encore !\n\n🍔 Buvette & restauration sur place\n🎉 Ambiance conviviale garantie\n✅ Entrée libre et gratuite \n📦 Exposants :\n➡️ Emplacement à 5 € les 3 mètres\n📞 05 55 94 67 20\n📧 ma-br@orange.fr \nOn vous attend nombreux pour cette journée placée sous le signe de la convivialité et des bonnes affaires \n\nPartager ceci :
URL:https://sornac.fr/evenement/vide-grenier/
LOCATION:Place du village\, 5 Place de l'église\, SORNAC\, 19 290\, France
ATTACH;FMTTYPE=image/jpeg:https://sornac.fr/wp-content/uploads/2026/03/Vide-grenier-2026-scaled-e1776774775878.webp
END:VEVENT
END:VCALENDAR