BEGIN:VCALENDAR
VERSION:2.0
PRODID:-//SORNAC - ECPv6.15.20//NONSGML v1.0//EN
CALSCALE:GREGORIAN
METHOD:PUBLISH
X-WR-CALNAME:SORNAC
X-ORIGINAL-URL:https://sornac.fr
X-WR-CALDESC:Évènements pour SORNAC
REFRESH-INTERVAL;VALUE=DURATION:PT1H
X-Robots-Tag:noindex
X-PUBLISHED-TTL:PT1H
BEGIN:VTIMEZONE
TZID:Europe/Paris
BEGIN:DAYLIGHT
TZOFFSETFROM:+0100
TZOFFSETTO:+0200
TZNAME:CEST
DTSTART:20250330T010000
END:DAYLIGHT
BEGIN:STANDARD
TZOFFSETFROM:+0200
TZOFFSETTO:+0100
TZNAME:CET
DTSTART:20251026T010000
END:STANDARD
BEGIN:DAYLIGHT
TZOFFSETFROM:+0100
TZOFFSETTO:+0200
TZNAME:CEST
DTSTART:20260329T010000
END:DAYLIGHT
BEGIN:STANDARD
TZOFFSETFROM:+0200
TZOFFSETTO:+0100
TZNAME:CET
DTSTART:20261025T010000
END:STANDARD
BEGIN:DAYLIGHT
TZOFFSETFROM:+0100
TZOFFSETTO:+0200
TZNAME:CEST
DTSTART:20270328T010000
END:DAYLIGHT
BEGIN:STANDARD
TZOFFSETFROM:+0200
TZOFFSETTO:+0100
TZNAME:CET
DTSTART:20271031T010000
END:STANDARD
END:VTIMEZONE
BEGIN:VEVENT
DTSTART;VALUE=DATE:20260704
DTEND;VALUE=DATE:20260901
DTSTAMP:20260420T161701
CREATED:20250521T132833Z
LAST-MODIFIED:20251223T110619Z
UID:11797-1783123200-1788220799@sornac.fr
SUMMARY:Vacances scolaires d'été
DESCRIPTION:Vacances d’été\nSamedi 4 juillet 2026\n \nLe départ en vacances a lieu après la classe (Les élèves n’ayant pas cours le samedi sont en congés le vendredi soir après les cours) \nPartager ceci :
URL:https://sornac.fr/evenement/vacances-scolaires-dete/
LOCATION:École de Sornac\, rue des écoles\, Sornac\, 19290\, France
CATEGORIES:Vacances scolaires
ATTACH;FMTTYPE=image/jpeg:https://sornac.fr/wp-content/uploads/2023/01/vacances-ete-jpg.webp
END:VEVENT
END:VCALENDAR