BEGIN:VCALENDAR
VERSION:2.0
PRODID:-//SORNAC - ECPv6.15.20//NONSGML v1.0//EN
CALSCALE:GREGORIAN
METHOD:PUBLISH
X-ORIGINAL-URL:https://sornac.fr
X-WR-CALDESC:Évènements pour SORNAC
REFRESH-INTERVAL;VALUE=DURATION:PT1H
X-Robots-Tag:noindex
X-PUBLISHED-TTL:PT1H
BEGIN:VTIMEZONE
TZID:Europe/Paris
BEGIN:DAYLIGHT
TZOFFSETFROM:+0100
TZOFFSETTO:+0200
TZNAME:CEST
DTSTART:20250330T010000
END:DAYLIGHT
BEGIN:STANDARD
TZOFFSETFROM:+0200
TZOFFSETTO:+0100
TZNAME:CET
DTSTART:20251026T010000
END:STANDARD
BEGIN:DAYLIGHT
TZOFFSETFROM:+0100
TZOFFSETTO:+0200
TZNAME:CEST
DTSTART:20260329T010000
END:DAYLIGHT
BEGIN:STANDARD
TZOFFSETFROM:+0200
TZOFFSETTO:+0100
TZNAME:CET
DTSTART:20261025T010000
END:STANDARD
BEGIN:DAYLIGHT
TZOFFSETFROM:+0100
TZOFFSETTO:+0200
TZNAME:CEST
DTSTART:20270328T010000
END:DAYLIGHT
BEGIN:STANDARD
TZOFFSETFROM:+0200
TZOFFSETTO:+0100
TZNAME:CET
DTSTART:20271031T010000
END:STANDARD
END:VTIMEZONE
BEGIN:VEVENT
DTSTART;TZID=Europe/Paris:20260201T150000
DTEND;TZID=Europe/Paris:20260201T180000
DTSTAMP:20260424T102944
CREATED:20251021T091155Z
LAST-MODIFIED:20260127T110747Z
UID:13271-1769958000-1769968800@sornac.fr
SUMMARY:Match de l'US Sornac 💚⚽
DESCRIPTION:fra \nClub de foot – US Sornac \n \nRetrouvez le calendrier complet : Résultats et calendrier \nFacebook du club \nPartager ceci :
URL:https://sornac.fr/evenement/match-de-lus-sornac-%f0%9f%92%9a%e2%9a%bd-2/
LOCATION:STADE MUNICIPAL AIX\, STADE MUNICIPAL D49\, AIX\, 19200\, France
CATEGORIES:Match de l'US Sornac 💚⚽
ATTACH;FMTTYPE=image/png:https://sornac.fr/wp-content/uploads/2025/10/EXT-US-Sornac-2.webp
END:VEVENT
BEGIN:VEVENT
DTSTART;VALUE=DATE:20260207
DTEND;VALUE=DATE:20260208
DTSTAMP:20260424T102944
CREATED:20260115T104646Z
LAST-MODIFIED:20260115T161458Z
UID:13675-1770422400-1770508799@sornac.fr
SUMMARY:Retour du poulet rôti
DESCRIPTION:Partager ceci :
URL:https://sornac.fr/evenement/retour-du-poulet-roti/
LOCATION:Au Petit Chabrot\, 6 place de l'église\, Sornac\, 19290\, France
ATTACH;FMTTYPE=image/jpeg:https://sornac.fr/wp-content/uploads/2026/01/Poulet-roti-Chabrot-scaled.webp
END:VEVENT
BEGIN:VEVENT
DTSTART;VALUE=DATE:20260207
DTEND;VALUE=DATE:20260223
DTSTAMP:20260424T102944
CREATED:20251001T131222Z
LAST-MODIFIED:20251223T110559Z
UID:13163-1770422400-1771804799@sornac.fr
SUMMARY:Vacances scolaires d'hiver
DESCRIPTION:Vacances d’hiver\nDu samedi 7 février au lundi 23 février 2026\n \nLe départ en vacances a lieu après la classe (Les élèves n’ayant pas cours le samedi sont en congés le vendredi soir après les cours) \nPartager ceci :
URL:https://sornac.fr/evenement/vacances-scolaires-dhiver/
LOCATION:École de Sornac\, rue des écoles\, Sornac\, 19290\, France
CATEGORIES:Vacances scolaires
ATTACH;FMTTYPE=image/png:https://sornac.fr/wp-content/uploads/2023/01/vacances-dhiver-01.png
END:VEVENT
BEGIN:VEVENT
DTSTART;TZID=Europe/Paris:20260207T200000
DTEND;TZID=Europe/Paris:20260207T230000
DTSTAMP:20260424T102944
CREATED:20260203T111940Z
LAST-MODIFIED:20260203T111940Z
UID:13774-1770494400-1770505200@sornac.fr
SUMMARY:Match de l'US Sornac 💚⚽
DESCRIPTION:fra \nClub de foot – US Sornac \n \nRetrouvez le calendrier complet : Résultats et calendrier \nFacebook du club \nPartager ceci :
URL:https://sornac.fr/evenement/match-de-lus-sornac-%f0%9f%92%9a%e2%9a%bd-3/
LOCATION:Stade Georges Mallepeyre\, Terrain de foot - Route du stade\, Sornac\, 19290\, France
CATEGORIES:Match de l'US Sornac 💚⚽
ATTACH;FMTTYPE=image/png:https://sornac.fr/wp-content/uploads/2026/02/US-Sornac-visiteur.webp
END:VEVENT
BEGIN:VEVENT
DTSTART;TZID=Europe/Paris:20260221T193000
DTEND;TZID=Europe/Paris:20260221T230000
DTSTAMP:20260424T102944
CREATED:20260127T102602Z
LAST-MODIFIED:20260202T152415Z
UID:13736-1771702200-1771714800@sornac.fr
SUMMARY:Le repas du club de foot ⚽
DESCRIPTION:le traditionnel repas du foot \nRepas\, buvette\, animations et tombola géante\, uniquement sur réservation.\nRepas enfant moins de 12 ans = 12€\nPartager ceci :
URL:https://sornac.fr/evenement/le-repas-du-club-de-foot-%e2%9a%bd/
LOCATION:Salle polyvalente\, 2 Rue de la Croix de May\, Sornac\, 19290\, France
ATTACH;FMTTYPE=image/jpeg:https://sornac.fr/wp-content/uploads/2026/01/Repas-du-foot-1.webp
END:VEVENT
BEGIN:VEVENT
DTSTART;TZID=Europe/Paris:20260222T150000
DTEND;TZID=Europe/Paris:20260222T180000
DTSTAMP:20260424T102944
CREATED:20260217T094704Z
LAST-MODIFIED:20260217T094704Z
UID:13832-1771772400-1771783200@sornac.fr
SUMMARY:Match de l'US Sornac 💚⚽
DESCRIPTION:Club de foot – US Sornac \n \nRetrouvez le calendrier complet : Résultats et calendrier \nFacebook du club \nPartager ceci :
URL:https://sornac.fr/evenement/match-de-lus-sornac-%f0%9f%92%9a%e2%9a%bd-4/
LOCATION:STADE MUNICIPAL CUBLAC\, Rue du stade\, CUBLAC\, 19520\, France
CATEGORIES:Match de l'US Sornac 💚⚽
ATTACH;FMTTYPE=image/png:https://sornac.fr/wp-content/uploads/2026/02/EXT-US-Sornac.webp
END:VEVENT
END:VCALENDAR